BEGIN:VCALENDAR
VERSION:2.0
PRODID:-//Nuorten Kotkien Keskusliitto - ECPv5.0.2.1//NONSGML v1.0//EN
CALSCALE:GREGORIAN
METHOD:PUBLISH
X-WR-CALNAME:Nuorten Kotkien Keskusliitto
X-ORIGINAL-URL:https://testi.nuoretkotkat.fi
X-WR-CALDESC:Tapahtumat Nuorten Kotkien Keskusliitto
BEGIN:VTIMEZONE
TZID:Europe/Helsinki
BEGIN:DAYLIGHT
TZOFFSETFROM:+0200
TZOFFSETTO:+0300
TZNAME:EEST
DTSTART:20220327T010000
END:DAYLIGHT
BEGIN:STANDARD
TZOFFSETFROM:+0300
TZOFFSETTO:+0200
TZNAME:EET
DTSTART:20221030T010000
END:STANDARD
END:VTIMEZONE
BEGIN:VEVENT
DTSTART;VALUE=DATE:20220729
DTEND;VALUE=DATE:20220809
DTSTAMP:20260421T103640
CREATED:20220211T130356Z
LAST-MODIFIED:20220211T130356Z
UID:8427-1659052800-1660003199@testi.nuoretkotkat.fi
SUMMARY:Common Ground leirimatka Iso-Britanniaan
DESCRIPTION:Vilkkaan leirikesän päätteeksi Nuorten Kotkien Keskusliitto järjestää leirimatkan kansainväliselle IFM-SEI:n ja Woodcraft folkin Common Ground suurleirille. Leiri järjestetään Kelmarsh Hall and Gardens:illa Northamptonissa 29.7.-8.8.2022. \nVoit ilmoittautua mukaan leirimatkalle olemalla yhteydessä omaan piiriisi. Ilmoittautumisaika päättyy 27.3.2022. \nLeirimatkan hinta on 600€. Hinta sisältää matkat\, leirimaksun\, ruokailut ja leiriohjelman. Kysy omasta kotkaosastostasi mahdollisesta taloudellisesta tuesta leirimatkalle osallistumiseen. \nJaa sosiaalisessa mediassa:
URL:https://testi.nuoretkotkat.fi/tapahtuma/common-ground-leirimatka-iso-britanniaan/
ATTACH;FMTTYPE=image/png:https://testi.nuoretkotkat.fi/wp-content/uploads/2019/11/NK_Liitto_Punainen-1-e1573569513200.png
ORGANIZER;CN="Nuorten%20Kotkien%20Keskusliitto":MAILTO:jami.ojala@nuoretkotkat.fi
END:VEVENT
END:VCALENDAR