BEGIN:VCALENDAR
VERSION:2.0
PRODID:-//Nuorten Kotkien Keskusliitto - ECPv5.0.2.1//NONSGML v1.0//EN
CALSCALE:GREGORIAN
METHOD:PUBLISH
X-WR-CALNAME:Nuorten Kotkien Keskusliitto
X-ORIGINAL-URL:https://testi.nuoretkotkat.fi
X-WR-CALDESC:Tapahtumat Nuorten Kotkien Keskusliitto
BEGIN:VTIMEZONE
TZID:Europe/Helsinki
BEGIN:DAYLIGHT
TZOFFSETFROM:+0200
TZOFFSETTO:+0300
TZNAME:EEST
DTSTART:20220327T010000
END:DAYLIGHT
BEGIN:STANDARD
TZOFFSETFROM:+0300
TZOFFSETTO:+0200
TZNAME:EET
DTSTART:20221030T010000
END:STANDARD
END:VTIMEZONE
BEGIN:VEVENT
DTSTART;TZID=Europe/Helsinki:20220305T130000
DTEND;TZID=Europe/Helsinki:20220305T160000
DTSTAMP:20260423T093206
CREATED:20220208T091318Z
LAST-MODIFIED:20220208T091604Z
UID:8326-1646485200-1646496000@testi.nuoretkotkat.fi
SUMMARY:Huskyajelu (Keski-Suomi)
DESCRIPTION:Huskyajelua\, 5.3.2022 klo 13:00 (paikan päällä)- n. 15:30\, Mc Ahon Safari\, Mäkiahontie 20\, Jämsä. Matkat omilla kyydeillä. Hinta: Lapset 8 €\, aikuiset 20 € ja ilman ajelua osallistuvat 5 € + vuoden 2022 jäsenmaksu. Ohjaajina: Helena\, Minna ja Mika. Vertsuina: Aku\, Oona ja Emilia. Ilmoittautuminen viimeistään 25.2.2022. Ilmoittautuminen: jty.kotkat(at)gmail.com tai 050 331 1504 (8.30-16) Helena Nuutinen \nJaa sosiaalisessa mediassa:
URL:https://testi.nuoretkotkat.fi/tapahtuma/huskyajelu-keski-suomi/
LOCATION:Jämsä
ATTACH;FMTTYPE=image/png:https://testi.nuoretkotkat.fi/wp-content/uploads/2019/11/NK_Liitto_Punainen-1-e1573569513200.png
ORGANIZER;CN="Keski-Suomen%20Nuoret%20Kotkat":MAILTO:mika.kelander@jty.fi
END:VEVENT
END:VCALENDAR