BEGIN:VCALENDAR
VERSION:2.0
PRODID:-//Nuorten Kotkien Keskusliitto - ECPv5.0.2.1//NONSGML v1.0//EN
CALSCALE:GREGORIAN
METHOD:PUBLISH
X-WR-CALNAME:Nuorten Kotkien Keskusliitto
X-ORIGINAL-URL:https://testi.nuoretkotkat.fi
X-WR-CALDESC:Tapahtumat Nuorten Kotkien Keskusliitto
BEGIN:VTIMEZONE
TZID:Europe/Helsinki
BEGIN:DAYLIGHT
TZOFFSETFROM:+0200
TZOFFSETTO:+0300
TZNAME:EEST
DTSTART:20220327T010000
END:DAYLIGHT
BEGIN:STANDARD
TZOFFSETFROM:+0300
TZOFFSETTO:+0200
TZNAME:EET
DTSTART:20221030T010000
END:STANDARD
END:VTIMEZONE
BEGIN:VEVENT
DTSTART;VALUE=DATE:20220713
DTEND;VALUE=DATE:20220718
DTSTAMP:20260421T214733
CREATED:20220211T125741Z
LAST-MODIFIED:20220211T125741Z
UID:8418-1657670400-1658102399@testi.nuoretkotkat.fi
SUMMARY:Kesäleiri (Pirkanmaa)
DESCRIPTION:Pirkanmaan piirin kesäleiri 13.-18.7. \nJaa sosiaalisessa mediassa:
URL:https://testi.nuoretkotkat.fi/tapahtuma/kesaleiri-pirkanmaa/
LOCATION:Kankaan Torppa\, Urjala\, Väkkäräntie 275\, Urjala\, 31140\, Suomi
ATTACH;FMTTYPE=image/png:https://testi.nuoretkotkat.fi/wp-content/uploads/2019/11/NK_Liitto_Punainen-1-e1573569513200.png
ORGANIZER;CN="Pirkanmaan%20Nuoret%20Kotkat":MAILTO:pirkanmaa@nuoretkotkat.fi
END:VEVENT
END:VCALENDAR