BEGIN:VCALENDAR
VERSION:2.0
PRODID:-//Nuorten Kotkien Keskusliitto - ECPv5.0.2.1//NONSGML v1.0//EN
CALSCALE:GREGORIAN
METHOD:PUBLISH
X-WR-CALNAME:Nuorten Kotkien Keskusliitto
X-ORIGINAL-URL:https://testi.nuoretkotkat.fi
X-WR-CALDESC:Tapahtumat Nuorten Kotkien Keskusliitto
BEGIN:VTIMEZONE
TZID:Europe/Helsinki
BEGIN:DAYLIGHT
TZOFFSETFROM:+0200
TZOFFSETTO:+0300
TZNAME:EEST
DTSTART:20220327T010000
END:DAYLIGHT
BEGIN:STANDARD
TZOFFSETFROM:+0300
TZOFFSETTO:+0200
TZNAME:EET
DTSTART:20221030T010000
END:STANDARD
END:VTIMEZONE
BEGIN:VEVENT
DTSTART;VALUE=DATE:20220225
DTEND;VALUE=DATE:20220306
DTSTAMP:20260423T041451
CREATED:20220207T134111Z
LAST-MODIFIED:20220210T091657Z
UID:8299-1645747200-1646524799@testi.nuoretkotkat.fi
SUMMARY:Lapin leiri (Pirkanmaa)
DESCRIPTION:\n\nPirkanmaan Nuoret kotkat jatkavat perinteisen hiihtoleirin valmistelua Tiurahoviin ja\nSuomen Ylläkselle\, 25.2.-5.3. Tervetuloa matkaan kaikki jo Tiurahovin tunnelmaan tutustuneet ja uudet hiihtoleirille haluavat.\nLeirin toiminnot suuntautuvat hyvin pitkälti hiihtämiseen eri muodoissa ja erityisesti\nYlläksen hiihtokeskukseen painottuen. Hinnat: alle 4v. 70€ 4-13v. 140€ 14-18v. 180€ ja aikuisilta 230€. Muilta kuin Pirkanmaan piirin jäseniltä +70€. Sisältää: Matkat\, majoitus ja ruokailut (aamupala\, lounaseväät\, päivällinen ja iltapala).\nMajoitus ja ruokailut tapahtuvat Tiurahovin savottakämpässä\, joka on kahden ison\nmajoitushuoneen siskonpedein varustettu tupa.\nHiihtoleirin aktiviteetit tapahtuvat ulkona ja Ylläksen hiihtokeskuksen maisemissa.\nMahdollisesti leiriin kuuluu myös yksi retkipäivä\, mutta tämä varmistuu lähempänä. Ilmoittautumiset 13.2. mennessä Timo Matilaiselle\, 040 1633 888(myös lisätiedot) tai Pirkanmaan piiriin pirkanmaa(at)nuoretkotkat.fi. \n\n\n\n\nJaa sosiaalisessa mediassa:
URL:https://testi.nuoretkotkat.fi/tapahtuma/lapin-leiri/
LOCATION:Tiurahovi\, Äkäslompolontie 1877\, Muonio\, 95970\, Suomi
ATTACH;FMTTYPE=image/png:https://testi.nuoretkotkat.fi/wp-content/uploads/2019/11/NK_Liitto_Punainen-1-e1573569513200.png
ORGANIZER;CN="Pirkanmaan%20Nuoret%20Kotkat":MAILTO:pirkanmaa@nuoretkotkat.fi
END:VEVENT
END:VCALENDAR