BEGIN:VCALENDAR
VERSION:2.0
PRODID:-//Nuorten Kotkien Keskusliitto - ECPv5.0.2.1//NONSGML v1.0//EN
CALSCALE:GREGORIAN
METHOD:PUBLISH
X-WR-CALNAME:Nuorten Kotkien Keskusliitto
X-ORIGINAL-URL:https://testi.nuoretkotkat.fi
X-WR-CALDESC:Tapahtumat Nuorten Kotkien Keskusliitto
BEGIN:VTIMEZONE
TZID:Europe/Helsinki
BEGIN:DAYLIGHT
TZOFFSETFROM:+0200
TZOFFSETTO:+0300
TZNAME:EEST
DTSTART:20220327T010000
END:DAYLIGHT
BEGIN:STANDARD
TZOFFSETFROM:+0300
TZOFFSETTO:+0200
TZNAME:EET
DTSTART:20221030T010000
END:STANDARD
END:VTIMEZONE
BEGIN:VEVENT
DTSTART;VALUE=DATE:20220723
DTEND;VALUE=DATE:20220807
DTSTAMP:20260421T144040
CREATED:20220211T124455Z
LAST-MODIFIED:20220211T124455Z
UID:8405-1658534400-1659830399@testi.nuoretkotkat.fi
SUMMARY:Leirimatka Itävaltaan (Helsinki)
DESCRIPTION:Helsingin Nuorten Kotkien leirimatka Itävaltaan tehdään 23.7-6.8. Matkan kesto on 15 vrk. Matkan tarkempi kohde on veljesjärjestömme Rote Falkenien leirikeskus Döbriach (lähellä Klagenfurtia). Kohteeseen matkataan lennoilla Helsinki-München/Wien-Helsinki ja junalla München/Wien-Döbriach-München/Wien (kilometrejä noin 300 km/suunta). \nLisätiedot matkasta 050 339 8230/Siltaloppi. Paikkoja on rajoitettu määrä. Viimeinen ilmoittautumispäivä matkalle on 31.3.2022. \nLeirimatkan hinta on 790 €/hlö. Sisaralennus -20%. \nHintaan sisältyy lentomatkat\, junakuljetukset\, ruokailut leirillä\, majoitus järjestäjän teltoissa\, tapaturmavakuutus sekä monipuolinen leiriohjelma. Matka on suunnattu 12-16-vuotiaille. \nIlmoittautumiset leirimatkalle 15.4.2022 mennessä. \n  \nJaa sosiaalisessa mediassa:
URL:https://testi.nuoretkotkat.fi/tapahtuma/leirimatka-itavaltaan-helsinki/
ATTACH;FMTTYPE=image/png:https://testi.nuoretkotkat.fi/wp-content/uploads/2019/11/NK_Liitto_Punainen-1-e1573569513200.png
ORGANIZER;CN="Helsingin%20Nuoret%20Kotkat":MAILTO:timo.katajamaki(at)nuoretkotkat.fi
END:VEVENT
END:VCALENDAR