BEGIN:VCALENDAR
VERSION:2.0
PRODID:-//Nuorten Kotkien Keskusliitto - ECPv5.0.2.1//NONSGML v1.0//EN
CALSCALE:GREGORIAN
METHOD:PUBLISH
X-WR-CALNAME:Nuorten Kotkien Keskusliitto
X-ORIGINAL-URL:https://testi.nuoretkotkat.fi
X-WR-CALDESC:Tapahtumat Nuorten Kotkien Keskusliitto
BEGIN:VTIMEZONE
TZID:Europe/Helsinki
BEGIN:DAYLIGHT
TZOFFSETFROM:+0200
TZOFFSETTO:+0300
TZNAME:EEST
DTSTART:20220327T010000
END:DAYLIGHT
BEGIN:STANDARD
TZOFFSETFROM:+0300
TZOFFSETTO:+0200
TZNAME:EET
DTSTART:20221030T010000
END:STANDARD
END:VTIMEZONE
BEGIN:VEVENT
DTSTART;VALUE=DATE:20220521
DTEND;VALUE=DATE:20220523
DTSTAMP:20260425T104610
CREATED:20220211T130109Z
LAST-MODIFIED:20220211T130109Z
UID:8422-1653091200-1653263999@testi.nuoretkotkat.fi
SUMMARY:Luontoseikkailu (KKT)
DESCRIPTION:Koko perheelle sopiva lastentapahtuma Nuorten Kotkien luontoseikkailu järjestetään 21.-22.5.2022 Ritajärven luonnonsuojelualueen keväisissä maisemissa Sastamalassa Pirkanmaalla. Ritajärven upean vanhan metsän siimeksessä ja erämaajärvien rannoilla kelpaa seikkailla. \nLuvassa on tuttuun tapaan hauskojen\, kaiken ikäisille sopivien rastitehtävien suorittamista ryhmissä\, yhdessäoloa ja luonnosta nauttimista. \nIlmoittaudu mukaan omaan piiriisi 27.4. mennessä! \nJaa sosiaalisessa mediassa:
URL:https://testi.nuoretkotkat.fi/tapahtuma/luontoseikkailu-kkt/
LOCATION:Ritäjärvi\, Sastamala
ATTACH;FMTTYPE=image/png:https://testi.nuoretkotkat.fi/wp-content/uploads/2019/11/NK_Liitto_Punainen-1-e1573569513200.png
ORGANIZER;CN="Nuorten%20Kotkien%20Keskusliitto":MAILTO:jami.ojala@nuoretkotkat.fi
END:VEVENT
END:VCALENDAR