BEGIN:VCALENDAR
VERSION:2.0
PRODID:-//Nuorten Kotkien Keskusliitto - ECPv5.0.2.1//NONSGML v1.0//EN
CALSCALE:GREGORIAN
METHOD:PUBLISH
X-WR-CALNAME:Nuorten Kotkien Keskusliitto
X-ORIGINAL-URL:https://testi.nuoretkotkat.fi
X-WR-CALDESC:Tapahtumat Nuorten Kotkien Keskusliitto
BEGIN:VTIMEZONE
TZID:Europe/Helsinki
BEGIN:DAYLIGHT
TZOFFSETFROM:+0200
TZOFFSETTO:+0300
TZNAME:EEST
DTSTART:20220327T010000
END:DAYLIGHT
BEGIN:STANDARD
TZOFFSETFROM:+0300
TZOFFSETTO:+0200
TZNAME:EET
DTSTART:20221030T010000
END:STANDARD
END:VTIMEZONE
BEGIN:VEVENT
DTSTART;TZID=Europe/Helsinki:20220506T080000
DTEND;TZID=Europe/Helsinki:20220508T170000
DTSTAMP:20260425T161836
CREATED:20220211T121739Z
LAST-MODIFIED:20220211T121739Z
UID:8373-1651824000-1652029200@testi.nuoretkotkat.fi
SUMMARY:Osastojen viikonloppuleiri (Helsinki)
DESCRIPTION:Osastojen viikonloppuleiri Meriharjun kurssikeskuksella Vuosaaressa 6.-8.5. . \nJaa sosiaalisessa mediassa:
URL:https://testi.nuoretkotkat.fi/tapahtuma/osastojen-viikonloppuleiri-helsinki/
LOCATION:Meriharjun kurssikeskus
ATTACH;FMTTYPE=image/png:https://testi.nuoretkotkat.fi/wp-content/uploads/2019/11/NK_Liitto_Punainen-1-e1573569513200.png
ORGANIZER;CN="Helsingin%20Nuoret%20Kotkat":MAILTO:timo.katajamaki(at)nuoretkotkat.fi
END:VEVENT
END:VCALENDAR