BEGIN:VCALENDAR
VERSION:2.0
PRODID:-//Nuorten Kotkien Keskusliitto - ECPv5.0.2.1//NONSGML v1.0//EN
CALSCALE:GREGORIAN
METHOD:PUBLISH
X-WR-CALNAME:Nuorten Kotkien Keskusliitto
X-ORIGINAL-URL:https://testi.nuoretkotkat.fi
X-WR-CALDESC:Tapahtumat Nuorten Kotkien Keskusliitto
BEGIN:VTIMEZONE
TZID:Europe/Helsinki
BEGIN:DAYLIGHT
TZOFFSETFROM:+0200
TZOFFSETTO:+0300
TZNAME:EEST
DTSTART:20220327T010000
END:DAYLIGHT
BEGIN:STANDARD
TZOFFSETFROM:+0300
TZOFFSETTO:+0200
TZNAME:EET
DTSTART:20221030T010000
END:STANDARD
END:VTIMEZONE
BEGIN:VEVENT
DTSTART;TZID=Europe/Helsinki:20220610T140000
DTEND;TZID=Europe/Helsinki:20220612T130000
DTSTAMP:20260423T022702
CREATED:20220407T080149Z
LAST-MODIFIED:20220407T080548Z
UID:8515-1654869600-1655038800@testi.nuoretkotkat.fi
SUMMARY:Retki Tukholmaan (Pirkanmaa)
DESCRIPTION:Risteillään Tukholmaan\, jossa vietetään kesäinen päivä tutustumalla mm. Abba-museoon! Laiva lähtee Helsingistä perjantaina 10.6. klo 17.30 ja palaa Helsinkiin klo 10.10 sunnuntaina 12.6. Retkihintaan sisältyy 4 hengen hytti\, yhteisbussi kotimaassa\, ruokailut laivalla (illallinen\, aamupala\, illallinen\, aamupala)\, lippu Abba-museoon ja vesibussimatka Tukholmassa. Osallistujahinnat alle 12-vuotiaat 60€\, 12- 17-vuotiaat 80€\, aikuiset 150€. Muille kuin piirin jäsenille +30€ Ilmoittauduthan viimeistään 2.5. omaan osastoosi tai piiriin. \nJaa sosiaalisessa mediassa:
URL:https://testi.nuoretkotkat.fi/tapahtuma/retki-tukholmaan-pirkanmaa/
ATTACH;FMTTYPE=image/png:https://testi.nuoretkotkat.fi/wp-content/uploads/2019/11/NK_Liitto_Punainen-1-e1573569513200.png
ORGANIZER;CN="Pirkanmaan%20Nuoret%20Kotkat":MAILTO:pirkanmaa@nuoretkotkat.fi
END:VEVENT
END:VCALENDAR