BEGIN:VCALENDAR
VERSION:2.0
PRODID:-//Nuorten Kotkien Keskusliitto - ECPv5.0.2.1//NONSGML v1.0//EN
CALSCALE:GREGORIAN
METHOD:PUBLISH
X-WR-CALNAME:Nuorten Kotkien Keskusliitto
X-ORIGINAL-URL:https://testi.nuoretkotkat.fi
X-WR-CALDESC:Tapahtumat Nuorten Kotkien Keskusliitto
BEGIN:VTIMEZONE
TZID:Europe/Helsinki
BEGIN:DAYLIGHT
TZOFFSETFROM:+0200
TZOFFSETTO:+0300
TZNAME:EEST
DTSTART:20220327T010000
END:DAYLIGHT
BEGIN:STANDARD
TZOFFSETFROM:+0300
TZOFFSETTO:+0200
TZNAME:EET
DTSTART:20221030T010000
END:STANDARD
END:VTIMEZONE
BEGIN:VEVENT
DTSTART;TZID=Europe/Helsinki:20220613T080000
DTEND;TZID=Europe/Helsinki:20220619T170000
DTSTAMP:20260422T224936
CREATED:20220211T122202Z
LAST-MODIFIED:20220211T122202Z
UID:8379-1655107200-1655658000@testi.nuoretkotkat.fi
SUMMARY:Seikkailu- ja luontoleiri (Helsinki)
DESCRIPTION:Seikkailu- ja luontoleiri (leirijakso U2) Kankaan Torpan leirikeskuksella Urjalassa 13.-19.6. \nJaa sosiaalisessa mediassa:
URL:https://testi.nuoretkotkat.fi/tapahtuma/seikkailu-ja-luontoleiri-helsinki-2/
LOCATION:Kankaan Torppa\, Urjala\, Väkkäräntie 275\, Urjala\, 31140\, Suomi
ATTACH;FMTTYPE=image/png:https://testi.nuoretkotkat.fi/wp-content/uploads/2019/11/NK_Liitto_Punainen-1-e1573569513200.png
END:VEVENT
END:VCALENDAR