BEGIN:VCALENDAR
VERSION:2.0
PRODID:-//Nuorten Kotkien Keskusliitto - ECPv5.0.2.1//NONSGML v1.0//EN
CALSCALE:GREGORIAN
METHOD:PUBLISH
X-WR-CALNAME:Nuorten Kotkien Keskusliitto
X-ORIGINAL-URL:https://testi.nuoretkotkat.fi
X-WR-CALDESC:Tapahtumat Nuorten Kotkien Keskusliitto
BEGIN:VTIMEZONE
TZID:Europe/Helsinki
BEGIN:DAYLIGHT
TZOFFSETFROM:+0200
TZOFFSETTO:+0300
TZNAME:EEST
DTSTART:20220327T010000
END:DAYLIGHT
BEGIN:STANDARD
TZOFFSETFROM:+0300
TZOFFSETTO:+0200
TZNAME:EET
DTSTART:20221030T010000
END:STANDARD
END:VTIMEZONE
BEGIN:VEVENT
DTSTART;VALUE=DATE:20220909
DTEND;VALUE=DATE:20220912
DTSTAMP:20260419T163222
CREATED:20220211T124000Z
LAST-MODIFIED:20220211T124000Z
UID:8401-1662681600-1662940799@testi.nuoretkotkat.fi
SUMMARY:Syystalkoot (Helsinki)
DESCRIPTION:Kankaan Torpan leirikeskuksella Urjalassa syystalkoot 9.-11.9. Talkoissa leirikeskus kunnostetaan talvikauden toimintoja varten. \nJaa sosiaalisessa mediassa:
URL:https://testi.nuoretkotkat.fi/tapahtuma/syystalkoot-helsinki/
LOCATION:Kankaan Torppa\, Urjala\, Väkkäräntie 275\, Urjala\, 31140\, Suomi
ATTACH;FMTTYPE=image/png:https://testi.nuoretkotkat.fi/wp-content/uploads/2019/11/NK_Liitto_Punainen-1-e1573569513200.png
ORGANIZER;CN="Helsingin%20Nuoret%20Kotkat":MAILTO:timo.katajamaki(at)nuoretkotkat.fi
END:VEVENT
END:VCALENDAR