BEGIN:VCALENDAR
VERSION:2.0
PRODID:-//Nuorten Kotkien Keskusliitto - ECPv5.0.2.1//NONSGML v1.0//EN
CALSCALE:GREGORIAN
METHOD:PUBLISH
X-WR-CALNAME:Nuorten Kotkien Keskusliitto
X-ORIGINAL-URL:https://testi.nuoretkotkat.fi
X-WR-CALDESC:Tapahtumat Nuorten Kotkien Keskusliitto
BEGIN:VTIMEZONE
TZID:Europe/Helsinki
BEGIN:DAYLIGHT
TZOFFSETFROM:+0200
TZOFFSETTO:+0300
TZNAME:EEST
DTSTART:20220327T010000
END:DAYLIGHT
BEGIN:STANDARD
TZOFFSETFROM:+0300
TZOFFSETTO:+0200
TZNAME:EET
DTSTART:20221030T010000
END:STANDARD
END:VTIMEZONE
BEGIN:VEVENT
DTSTART;TZID=Europe/Helsinki:20220501T120000
DTEND;TZID=Europe/Helsinki:20220501T150000
DTSTAMP:20260425T161154
CREATED:20220208T091721Z
LAST-MODIFIED:20220208T091733Z
UID:8332-1651406400-1651417200@testi.nuoretkotkat.fi
SUMMARY:Vappujuhla (Keski-Suomi)
DESCRIPTION:Vappujuhla\, 1.5.2022 klo 12:00. Lounaispuistossa\, Minna Canthinkatu 7. Nuoret Kotkat löytää leikkialueelta. Järjestämme: arvontaa\, kasvomaalausta sekä jaamme ilmapalloja. Vapaa Pääsy.\nJaa sosiaalisessa mediassa:
URL:https://testi.nuoretkotkat.fi/tapahtuma/vappujuhla/
LOCATION:Lounaispuisto
ATTACH;FMTTYPE=image/png:https://testi.nuoretkotkat.fi/wp-content/uploads/2019/11/NK_Liitto_Punainen-1-e1573569513200.png
ORGANIZER;CN="Keski-Suomen%20Nuoret%20Kotkat":MAILTO:mika.kelander@jty.fi
END:VEVENT
END:VCALENDAR