BEGIN:VCALENDAR
VERSION:2.0
PRODID:-//Nuorten Kotkien Keskusliitto - ECPv5.0.2.1//NONSGML v1.0//EN
CALSCALE:GREGORIAN
METHOD:PUBLISH
X-WR-CALNAME:Nuorten Kotkien Keskusliitto
X-ORIGINAL-URL:https://testi.nuoretkotkat.fi
X-WR-CALDESC:Tapahtumat Nuorten Kotkien Keskusliitto
BEGIN:VTIMEZONE
TZID:Europe/Helsinki
BEGIN:DAYLIGHT
TZOFFSETFROM:+0200
TZOFFSETTO:+0300
TZNAME:EEST
DTSTART:20220327T010000
END:DAYLIGHT
BEGIN:STANDARD
TZOFFSETFROM:+0300
TZOFFSETTO:+0200
TZNAME:EET
DTSTART:20221030T010000
END:STANDARD
END:VTIMEZONE
BEGIN:VEVENT
DTSTART;VALUE=DATE:20220224
DTEND;VALUE=DATE:20220226
DTSTAMP:20260423T024524
CREATED:20220210T090623Z
LAST-MODIFIED:20220210T090623Z
UID:8355-1645660800-1645833599@testi.nuoretkotkat.fi
SUMMARY:Vertsukoulutus (Varsinais-Suomi)
DESCRIPTION:Vertsukoulutuksen ensimmäinen koulutusosio \n24.-25.2 talvileirin jälkeen tänä vuonna 13-vuotta täyttäville nuorille. Koulutus on maksuton. Seuraava koulutuskokonaisuus alkaa vasta vuoden päästä. \nTalvileiri on jo täynnä\, mutta jos haluaa osallistua alkavaan vertsukoulutukseen se on vielä mahdollista (ota yhteyttä niin sovitaan käytännön asioista vs(a)nuoretkotkat.fi). \nIlmoittautuminen vertsukoulutukseen nettisivujen ilmoittautumislomakkeen kautta \nJos tämä koulutus ei jostain syystä onnistu ja nuori on kiinnostunut osallistumaan\, laittakaa viestiä niin pidämme teidät ajan tasalla seuraavasta tapaamisesta \nJaa sosiaalisessa mediassa:
URL:https://testi.nuoretkotkat.fi/tapahtuma/vertsukoulutus-varsinais-suomi/
ATTACH;FMTTYPE=image/png:https://testi.nuoretkotkat.fi/wp-content/uploads/2019/11/NK_Liitto_Punainen-1-e1573569513200.png
ORGANIZER;CN="Varsinais-Suomen%20Nuoret%20Kotkat":MAILTO:vs(at)nuoretkotkat.fi
END:VEVENT
END:VCALENDAR