BEGIN:VCALENDAR
VERSION:2.0
PRODID:-//Nuorten Kotkien Keskusliitto - ECPv5.0.2.1//NONSGML v1.0//EN
CALSCALE:GREGORIAN
METHOD:PUBLISH
X-WR-CALNAME:Nuorten Kotkien Keskusliitto
X-ORIGINAL-URL:https://testi.nuoretkotkat.fi
X-WR-CALDESC:Tapahtumat Nuorten Kotkien Keskusliitto
BEGIN:VTIMEZONE
TZID:Europe/Helsinki
BEGIN:DAYLIGHT
TZOFFSETFROM:+0200
TZOFFSETTO:+0300
TZNAME:EEST
DTSTART:20220327T010000
END:DAYLIGHT
BEGIN:STANDARD
TZOFFSETFROM:+0300
TZOFFSETTO:+0200
TZNAME:EET
DTSTART:20221030T010000
END:STANDARD
END:VTIMEZONE
BEGIN:VEVENT
DTSTART;VALUE=DATE:20220902
DTEND;VALUE=DATE:20220905
DTSTAMP:20260419T200852
CREATED:20220211T125238Z
LAST-MODIFIED:20220211T125238Z
UID:8413-1662076800-1662335999@testi.nuoretkotkat.fi
SUMMARY:Viikonloppuretki (Helsinki)
DESCRIPTION:2.-4.9.2022 Kallioniemen kesäkoti\, Sipoo (ilmoittautuminen 5.8.2022 mennessä) \nHinta on 70 €/hlö (sisaralennus 20%). Hinta sisältää kuljetukset\, majoituksen sisätiloissa\, ruokailut\, tapaturmavakuutuksen sekä monipuolisen retkiohjelman. \nJaa sosiaalisessa mediassa:
URL:https://testi.nuoretkotkat.fi/tapahtuma/viikonloppuretki-helsinki-4/
LOCATION:Kallioniemen kesäkoti
ATTACH;FMTTYPE=image/png:https://testi.nuoretkotkat.fi/wp-content/uploads/2019/11/NK_Liitto_Punainen-1-e1573569513200.png
ORGANIZER;CN="Helsingin%20Nuoret%20Kotkat":MAILTO:timo.katajamaki(at)nuoretkotkat.fi
END:VEVENT
END:VCALENDAR