BEGIN:VCALENDAR
VERSION:2.0
PRODID:-//Nuorten Kotkien Keskusliitto - ECPv5.0.2.1//NONSGML v1.0//EN
CALSCALE:GREGORIAN
METHOD:PUBLISH
X-WR-CALNAME:Nuorten Kotkien Keskusliitto
X-ORIGINAL-URL:https://testi.nuoretkotkat.fi
X-WR-CALDESC:Tapahtumat Nuorten Kotkien Keskusliitto
BEGIN:VTIMEZONE
TZID:Europe/Helsinki
BEGIN:DAYLIGHT
TZOFFSETFROM:+0200
TZOFFSETTO:+0300
TZNAME:EEST
DTSTART:20220327T010000
END:DAYLIGHT
BEGIN:STANDARD
TZOFFSETFROM:+0300
TZOFFSETTO:+0200
TZNAME:EET
DTSTART:20221030T010000
END:STANDARD
END:VTIMEZONE
BEGIN:VEVENT
DTSTART;VALUE=DATE:20220618
DTEND;VALUE=DATE:20220624
DTSTAMP:20260425T205636
CREATED:20220211T122739Z
LAST-MODIFIED:20220211T122739Z
UID:8383-1655510400-1656028799@testi.nuoretkotkat.fi
SUMMARY:Seikkailu- ja luontoleiri (Helsinki)
DESCRIPTION:Seikkailu- ja luontoleiri (leirijakso BH)\, Bengtsårin leirikeskuksella Hangossa 18.-23.6. \nJaa sosiaalisessa mediassa:
URL:https://testi.nuoretkotkat.fi/tapahtuma/seikkailu-ja-luontoleiri-helsinki-3/
LOCATION:Bengtsår
ATTACH;FMTTYPE=image/png:https://testi.nuoretkotkat.fi/wp-content/uploads/2019/11/NK_Liitto_Punainen-1-e1573569513200.png
ORGANIZER;CN="Helsingin%20Nuoret%20Kotkat":MAILTO:timo.katajamaki(at)nuoretkotkat.fi
END:VEVENT
BEGIN:VEVENT
DTSTART;VALUE=DATE:20220619
DTEND;VALUE=DATE:20220624
DTSTAMP:20260425T205636
CREATED:20220211T122909Z
LAST-MODIFIED:20220211T122909Z
UID:8385-1655596800-1656028799@testi.nuoretkotkat.fi
SUMMARY:Varttisleiri (Helsinki)
DESCRIPTION:Varttisleiri Kankaan Torpan leirikeskuksella Urjalassa 19.-23.6. Leiri on tarkoitettu 12-14 -vuotiaille nuorille\, joille mukavan yhdessäolon ja harrasteiden lisäksi järjestetään luontevia leirikeskuksen kesäiseen kunnossapitoon liittyviä tehtäviä. Varttivertsutoiminta on osa piirin\nohjaajakoulutusrakennetta\, jolla pyritään löytämään kehityskelpoisia nuoria mukaan varsinaiseen vertaisohjaajakoulutustoimintaan. \nJaa sosiaalisessa mediassa:
URL:https://testi.nuoretkotkat.fi/tapahtuma/varttisleiri-helsinki/
LOCATION:Kankaan Torppa\, Urjala\, Väkkäräntie 275\, Urjala\, 31140\, Suomi
ATTACH;FMTTYPE=image/png:https://testi.nuoretkotkat.fi/wp-content/uploads/2019/11/NK_Liitto_Punainen-1-e1573569513200.png
ORGANIZER;CN="Helsingin%20Nuoret%20Kotkat":MAILTO:timo.katajamaki(at)nuoretkotkat.fi
END:VEVENT
BEGIN:VEVENT
DTSTART;VALUE=DATE:20220620
DTEND;VALUE=DATE:20220624
DTSTAMP:20260425T205636
CREATED:20220207T135505Z
LAST-MODIFIED:20220207T135505Z
UID:8310-1655683200-1656028799@testi.nuoretkotkat.fi
SUMMARY:Kesäleiri (Kaakkois-Suomi)
DESCRIPTION:Kesäleiri\, Asinsaari. \nJaa sosiaalisessa mediassa:
URL:https://testi.nuoretkotkat.fi/tapahtuma/kesaleiri-kaakkois-suomi/
ATTACH;FMTTYPE=image/png:https://testi.nuoretkotkat.fi/wp-content/uploads/2019/11/NK_Liitto_Punainen-1-e1573569513200.png
ORGANIZER;CN="Kaakkois-Suomen%20Nuoret%20Kotkat":MAILTO:kaakkois-suomi(at)nuoretkotkat.fi
END:VEVENT
BEGIN:VEVENT
DTSTART;VALUE=DATE:20220620
DTEND;VALUE=DATE:20220624
DTSTAMP:20260425T205636
CREATED:20220210T091057Z
LAST-MODIFIED:20220210T091057Z
UID:8359-1655683200-1656028799@testi.nuoretkotkat.fi
SUMMARY:Vertsuleiri (Varsinais-Suomi)
DESCRIPTION:Ilmoittautuminen aukeaa 1.3. klo 12.00 \nJo perinteeksi muodostunut “Ikääntyvien leiri” aka vertsuleiri järjestetään kesällä juhannusviikolla lomasaari Bockholmenissa. \nVertsuleiri on tarkoitettu vain tällä hetkellä vertsukoulutuksessa oleville. \n“Bokis” on järjestömme lomapaikka\, joka on vuokrattavissa edullisesti jäsenperheille. Bockholmen ylläpidetään talkootöillä ja leirillä nuoret tutustuvat millaista talkooperinnettä järjestössämme on. Päivisin laitetaan paikkoja kuntoon\, kuitenkin myös yhteistä ohjelmaa ja illanaviettoja unohtamatta. \nHuom. vain 10 paikkaa! \nLeirin hinta 30 €. \nJaa sosiaalisessa mediassa:
URL:https://testi.nuoretkotkat.fi/tapahtuma/vertsuleiri-varsinais-suomi/
ATTACH;FMTTYPE=image/png:https://testi.nuoretkotkat.fi/wp-content/uploads/2019/11/NK_Liitto_Punainen-1-e1573569513200.png
ORGANIZER;CN="Varsinais-Suomen%20Nuoret%20Kotkat":MAILTO:vs(at)nuoretkotkat.fi
END:VEVENT
BEGIN:VEVENT
DTSTART;VALUE=DATE:20220623
DTEND;VALUE=DATE:20220627
DTSTAMP:20260425T205636
CREATED:20220211T123052Z
LAST-MODIFIED:20220211T123052Z
UID:8387-1655942400-1656287999@testi.nuoretkotkat.fi
SUMMARY:Leiritalkoot (Helsinki)
DESCRIPTION:Leiritalkoot Bengtsårin leirikeskuksella Hangossa 23.-26.6. Talkoissa kunnostetaan leirialuetta kotkaleirejä varten ja valmistellaan leiriviikoilla toteutettavia ohjelmia. \nJaa sosiaalisessa mediassa:
URL:https://testi.nuoretkotkat.fi/tapahtuma/leiritalkoot-helsinki-2/
LOCATION:Bengtsår
ATTACH;FMTTYPE=image/png:https://testi.nuoretkotkat.fi/wp-content/uploads/2019/11/NK_Liitto_Punainen-1-e1573569513200.png
ORGANIZER;CN="Helsingin%20Nuoret%20Kotkat":MAILTO:timo.katajamaki(at)nuoretkotkat.fi
END:VEVENT
END:VCALENDAR