BEGIN:VCALENDAR
VERSION:2.0
PRODID:-//Nuorten Kotkien Keskusliitto - ECPv5.0.2.1//NONSGML v1.0//EN
CALSCALE:GREGORIAN
METHOD:PUBLISH
X-WR-CALNAME:Nuorten Kotkien Keskusliitto
X-ORIGINAL-URL:https://testi.nuoretkotkat.fi
X-WR-CALDESC:Tapahtumat Nuorten Kotkien Keskusliitto
BEGIN:VTIMEZONE
TZID:Europe/Helsinki
BEGIN:DAYLIGHT
TZOFFSETFROM:+0200
TZOFFSETTO:+0300
TZNAME:EEST
DTSTART:20240331T010000
END:DAYLIGHT
BEGIN:STANDARD
TZOFFSETFROM:+0300
TZOFFSETTO:+0200
TZNAME:EET
DTSTART:20241027T010000
END:STANDARD
END:VTIMEZONE
BEGIN:VEVENT
DTSTART;VALUE=DATE:20240119
DTEND;VALUE=DATE:20240122
DTSTAMP:20260422T153727
CREATED:20240109T071719Z
LAST-MODIFIED:20240109T071719Z
UID:9299-1705622400-1705881599@testi.nuoretkotkat.fi
SUMMARY:Helsingin kotkapiirin viikonloppuretki Kankaan Torpan leirikeskukselle
DESCRIPTION:Lisätietoja: lastenleirit.fi \nJaa sosiaalisessa mediassa:
URL:https://testi.nuoretkotkat.fi/tapahtuma/helsingin-kotkapiirin-viikonloppuretki-kankaan-torpan-leirikeskukselle/
LOCATION:Kankaan Torppa\, Urjala\, Väkkäräntie 275\, Urjala\, 31140\, Suomi
ATTACH;FMTTYPE=image/png:https://testi.nuoretkotkat.fi/wp-content/uploads/2019/11/NK_Liitto_Punainen-1-e1573569513200.png
ORGANIZER;CN="Helsingin%20Nuoret%20Kotkat":MAILTO:timo.katajamaki(at)nuoretkotkat.fi
END:VEVENT
BEGIN:VEVENT
DTSTART;VALUE=DATE:20240120
DTEND;VALUE=DATE:20240121
DTSTAMP:20260422T153727
CREATED:20240103T084834Z
LAST-MODIFIED:20240103T084834Z
UID:9133-1705708800-1705795199@testi.nuoretkotkat.fi
SUMMARY:Liittohallitus
DESCRIPTION:Jaa sosiaalisessa mediassa:
URL:https://testi.nuoretkotkat.fi/tapahtuma/liittohallitus-11/
LOCATION:Helsinki
ATTACH;FMTTYPE=image/png:https://testi.nuoretkotkat.fi/wp-content/uploads/2019/11/NK_Liitto_Punainen-1-e1573569513200.png
END:VEVENT
BEGIN:VEVENT
DTSTART;VALUE=DATE:20240120
DTEND;VALUE=DATE:20240121
DTSTAMP:20260422T153727
CREATED:20240103T114249Z
LAST-MODIFIED:20240103T114249Z
UID:9160-1705708800-1705795199@testi.nuoretkotkat.fi
SUMMARY:Vantaan Nuorten Kotkien hallituksen kokous
DESCRIPTION:Jaa sosiaalisessa mediassa:
URL:https://testi.nuoretkotkat.fi/tapahtuma/vantaan-nuorten-kotkien-hallituksen-kokous/
LOCATION:Vantaa
ATTACH;FMTTYPE=image/png:https://testi.nuoretkotkat.fi/wp-content/uploads/2019/11/NK_Liitto_Punainen-1-e1573569513200.png
ORGANIZER;CN="Uudenmaan%20Nuoret%20Kotkat":MAILTO:uusimaa(at)nuoretkotkat.fi
END:VEVENT
END:VCALENDAR